BEGIN:VCALENDAR
VERSION:2.0
PRODID:-//Fly For Fun Salzburg - ECPv6.15.20//NONSGML v1.0//EN
CALSCALE:GREGORIAN
METHOD:PUBLISH
X-ORIGINAL-URL:https://flyforfun.at
X-WR-CALDESC:Veranstaltungen für Fly For Fun Salzburg
REFRESH-INTERVAL;VALUE=DURATION:PT1H
X-Robots-Tag:noindex
X-PUBLISHED-TTL:PT1H
BEGIN:VTIMEZONE
TZID:Europe/Vienna
BEGIN:DAYLIGHT
TZOFFSETFROM:+0100
TZOFFSETTO:+0200
TZNAME:CEST
DTSTART:20210328T010000
END:DAYLIGHT
BEGIN:STANDARD
TZOFFSETFROM:+0200
TZOFFSETTO:+0100
TZNAME:CET
DTSTART:20211031T010000
END:STANDARD
BEGIN:DAYLIGHT
TZOFFSETFROM:+0100
TZOFFSETTO:+0200
TZNAME:CEST
DTSTART:20220327T010000
END:DAYLIGHT
BEGIN:STANDARD
TZOFFSETFROM:+0200
TZOFFSETTO:+0100
TZNAME:CET
DTSTART:20221030T010000
END:STANDARD
BEGIN:DAYLIGHT
TZOFFSETFROM:+0100
TZOFFSETTO:+0200
TZNAME:CEST
DTSTART:20230326T010000
END:DAYLIGHT
BEGIN:STANDARD
TZOFFSETFROM:+0200
TZOFFSETTO:+0100
TZNAME:CET
DTSTART:20231029T010000
END:STANDARD
BEGIN:DAYLIGHT
TZOFFSETFROM:+0100
TZOFFSETTO:+0200
TZNAME:CEST
DTSTART:20240331T010000
END:DAYLIGHT
BEGIN:STANDARD
TZOFFSETFROM:+0200
TZOFFSETTO:+0100
TZNAME:CET
DTSTART:20241027T010000
END:STANDARD
END:VTIMEZONE
BEGIN:VEVENT
DTSTART;TZID=Europe/Vienna:20230414T190000
DTEND;TZID=Europe/Vienna:20230414T210000
DTSTAMP:20260425T201213
CREATED:20230307T125146Z
LAST-MODIFIED:20230508T052348Z
UID:18221-1681498800-1681506000@flyforfun.at
SUMMARY:Clubabend: Erste Hilfe 2.0
DESCRIPTION:Paragleiten und Drachenfliegen zählen trotz ihrer Faszination zu den Risikosportarten. Es ereignen sich immer wieder Unfälle – beim Starten\, Fliegen und Landen. Leider auch am Gaisberg. Im Fall des Falles ist eine rasche Ersthilfe wichtig.\n\nBei der Ersten Hilfe und bei Hubschrauberbergungen hat sich in den letzten Jahres einiges getan. Sie haben sich entscheidend weiterentwickelt zu einer modernen Erste Hilfe 2.0.\n\nOA Dr. Marc Stadlbauer erzählt Dir aus seiner Praxis als erfahrener Unfallchirurg und Hubschrauber-Notarzt. Er verrät Dir\, wie Du bei Flugunfällen die Rettungskette aktivierst und wie Du heute nach moderesten Erkenntnissen sicher und rasch Ersthilfe leistest.\n\nDieser Abend kann Leben retten.\n\nAufzeichnung & mehr\nEine Aufzeichnung des Abendseminars mit Marc und Patrick findest Du hier sowie \nWenn Dich das Thema „Flugsicherheit“ interessiert\, findest Du auf unserer Flugscicherheitsseite mehr dazu. \n\nProgramm\n1.  Aktuelles aus dem Fly For Fun Flightclub und vom magischen Gaisberg. \n2. Basis-Seminar für „Erste Hilfe“ mit den wichtigsten Grundlagen: \n\nFlugunfall beim Start\, im Flug oder bei der Landung: Was ist zu tun?\nWie aktiviere ich die Rettungskette?\nWas ist beim Hubschraubereinsatz zu beachten? Anflug\, Downwash & Einweisung.\nWie leiste ich heute Erste Hilfe? Die wichtigsten Grundlagen.\nDiskussionsrunde & Erfahrungsaustausch\n\nVeranstaltungstipp: Zur praktischen Vertiefung des Themas planen wir ein 2-tägiges Praxis-Seminar am Gaisberg für Interessierte. Die Termine werden noch bekanntgegeben. Voraussichtlich Anfang Juni und Anfang Juli. \n\nReferent\n \nOA Dr. Marc Stadlbauer\n \n\nOrthopäde und Traumatologe\nFlugrettungsarzt\nBergrettungsarzt\nPraxiserfahrung mit Alpin- und Paragleitunfällen\n\n\nModeration\n \nGary Stütz\n \n\nFernsehmoderator\nRadiosprecher\nKommunikationstrainer\n\n\nTeilnahme\nFreier Eintritt für Clubmitglieder. Keine Anmeldung erforderlich. \nNur limitierte Sitzplätze! \n\nWichtiger Terminhinweis!\nUnser Clubabend im April findet wegen der Osterfeiertage ausnahmsweise erst am Freitag\, 14. April 2023\, 19.00 h\, statt. \n\nVeranstaltungstipp\nDer nächste Clubabend mit dem Thema „Safety Talk“ findet am 5. Mai 2023\, 19.00 h\, im Pliemgut statt. \n\nAnreise Pliemgut\n\nBahn: S-Bahnstation Aigen\nBus: O-Bus Linie 7 – Station Josef Kraut Straße\nKfZ: Kostenfreier Parkplatz vor dem Gasthof vorhanden\nFahrrad oder einfach nur zu Fuß\n\nEs wird großartig. Freuen uns auf Dich!
URL:https://flyforfun.at/event/erste-hilfe/
LOCATION:Gasthaus Pliemgut\, Alte Aigner Str. 1\, Salzburg\, 5026\, Österreich
CATEGORIES:Club,Drachen Team Event,Freestyle Squad Event,Gaisberg Ranger Event,Gaisbergflieger Event,Hike + Fly Team Event,XC Team Event
ATTACH;FMTTYPE=image/webp:https://flyforfun.at/wp-content/uploads/2023/03/1200x675-169-WP-Event-Clubabend-EH.webp
ORGANIZER;CN="FlyForFun Flight Club":MAILTO:info@flyforfun.at
END:VEVENT
BEGIN:VEVENT
DTSTART;TZID=Europe/Vienna:20230113T190000
DTEND;TZID=Europe/Vienna:20230113T210000
DTSTAMP:20260425T201213
CREATED:20221125T130203Z
LAST-MODIFIED:20230419T080200Z
UID:14993-1673636400-1673643600@flyforfun.at
SUMMARY:Clubabend: Moderne Flugtechnik
DESCRIPTION:Moderne Gleitschirme bieten mehr Leistung und mehr Sicherheit als je zuvor. Mit den Gleitschirmen hat sich auch die Flugtechnik weiterentwickelt.\nNiko\, Flugschule Salzburg\, verrät Dir als erfahrener Fluglehrer und Pro\, was die Unterschiede sind und wie Du das volle Leistung- und Sicherheitspotential neuer Schirme ausnützen kannst. Ein Muss für Deinen sicheren Start in die neue Flugsaison 2023!*\n\nProgramm\n\nModerne Gleitschirme: Besonderheiten\, Konstruktion und Unterschiede moderner Gleitschirme\nModerne Flugtechnik für moderne Gleitschirme der neuesten Generation. Vom Anfänger bis zum Pro.\nFAQ & Diskussionsrunde: Wie fliegst Du moderne Gleitschirme richtig? Wie vermeidest Du häufige Fehler und Unfallursachen.\nClubinfos: Zusätzlich zum Vortrag von Niko erfährst Du am Clubabend wieder Aktuelles aus dem Club und vom Gaisberg.\n\nReferent\n \nNiko Eder-Sobek\, Fly For Fun Mitglied und Flugschulleiter der Flugschule Salzburg \n\nJahrelange Erfahrung als Fluglehrer\, Streckenflieger und Acropilot\nPersönliche Kontakte zu Entwicklern bekannter Gleitschirmmarken\nProfi bei Pflege und Wartung moderner Gleitschirme + Rettungsgeräte\n\nAnreise\n\nBahn: S-Bahnstation Aigen\nBus: O-Bus Linie 7 – Station Josef Kraut Straße\nKfZ: Kostenfreier Parkplatz vor dem Gasthof vorhanden\nFahrrad oder einfach nur zu Fuß\n\nEs wird großartig. Freuen uns auf Dich! \n\n*) Tipp: Clubaktion: Schirm & Retter-Packen \nFür deinen sicheren Start in die neue Flugsaison hat das Team vom Flugsport-Service heuer wieder ein Angebot für alle Fly For Fun Clubmitglieder geschnürt.\n\nO-Ton Hubert: „Dieses mal ist wirklich ein fetter Rabatt für Dich drin!! :)“\n\nAngebot ansehen …\n 
URL:https://flyforfun.at/event/clubabend-moderne-flugtechnik/
LOCATION:Gasthaus Pliemgut\, Alte Aigner Str. 1\, Salzburg\, 5026\, Österreich
CATEGORIES:Club,Freestyle Squad Event,Gaisbergflieger Event,Gastpilot Event,Hike + Fly Team Event,XC Team Event
ATTACH;FMTTYPE=image/png:https://flyforfun.at/wp-content/uploads/2022/11/1200x675-169-WP-Event-Clubabend-2023.1.png
ORGANIZER;CN="FlyForFun Flight Club":MAILTO:info@flyforfun.at
END:VEVENT
BEGIN:VEVENT
DTSTART;TZID=Europe/Vienna:20221202T190000
DTEND;TZID=Europe/Vienna:20221202T220000
DTSTAMP:20260425T201213
CREATED:20221115T233442Z
LAST-MODIFIED:20221125T135005Z
UID:13700-1670007600-1670018400@flyforfun.at
SUMMARY:Clubabend & Weihnachtsfeier 2022
DESCRIPTION:Unser Clubabend am 2. Dezember ist zugleich unsere beliebte Weihnachtsfeier! Nicht immer nur am kalten Winterhimmel herumschweben mit knurrendem Magen. Einmal  das süße Leben in vollen Zügen zu genießen – bei Speis\,Trank und Musik. Mit Freunden plaudern und von großen Flügen in den Sonnenuntergang träumen.\n\nProgramm\n\nAktuelles aus dem Club & Veranstaltungsvorschau. Damit Du weißt\, was am Magic Gaisberg abgeht.\nFoto- & Video Show: Bitte bringe Deine Mediendateien per USB-Stick mit Deinen schönsten Impressionen!\nHausmusik: Bringe Dein Lieblingsinstrument mit – ob Gitarre\, Flöte oder Harmonika. Und lass‘ es klingen!\nKöstliches Weihnachtsessen traditionell oder vegetarisch (1 Speise + 1 Getränk). Der Clubs bezahlt!\nAnmeldung: Bitte melde Dich bis Dienstag\, 29. November\, 18.00 h\, an\, damit der Koch ausreichend Essen und Sitzplätze vorbereiten kann.\nJetzt kostenfrei anmelden …\n\nAnreise\n\nBahn: S-Bahnstation Aigen\nBus: O-Bus Linie 7 – Station Josef Kraut Straße\nKfZ: Kostenfreier Parkplatz vor dem Gasthof vorhanden\nFahrrad oder einfach nur zu Fuß\n\nEs wird großartig. Freuen uns auf Dich!
URL:https://flyforfun.at/event/clubabend-weihnachtsfeier/
LOCATION:Gasthaus Pliemgut\, Alte Aigner Str. 1\, Salzburg\, 5026\, Österreich
CATEGORIES:Club,Gaisbergflieger Event
ATTACH;FMTTYPE=image/webp:https://flyforfun.at/wp-content/uploads/2022/11/1200x657_Event_Xmas-2022.webp
END:VEVENT
END:VCALENDAR